BEGIN:VCALENDAR
VERSION:2.0
PRODID:-//Library Market//iCal Export//EN
BEGIN:VEVENT
SUMMARY:1a
UID:26015
DTSTAMP:20260425T115400Z
DTSTART:20260421T210000Z
DTEND:20260421T220000Z
LOCATION:68 Nokomis Ave, Lake Hiawatha, NJ 07034, United States
ROOM: Teen Loft
DESCRIPTION:study
URL:https://parsippany.librarycalendar.com/event/1a-26015
END:VEVENT
END:VCALENDAR
